BEGIN:VCALENDAR
VERSION:2.0
PRODID:-//wp-events-plugin.com//7.2.3.1//EN
BEGIN:VEVENT
UID:3@clonmelbaptist.ie
DTSTART;TZID=Asia/Irkutsk:20251205T000000
DTEND;TZID=Asia/Irkutsk:20251205T180000
DTSTAMP:20251214T094619Z
URL:https://www.clonmelbaptist.ie/events/jonah-1-pastor-matthew-brennan/
SUMMARY:Sunday Worship in the Bridge Centre\, Cashel Road\, Clonmel E91 X5T
 7 @ 11AM.
DESCRIPTION:Worship meetings held at Clonmel Baptist Church\, Bridge Centre
 \, Cashel Road \,E91 X5T7 . Bus route C2 and C9 at 11 am . Listen to recen
 t worship services
ATTACH;FMTTYPE=image/jpeg:https://www.clonmelbaptist.ie/wp-content/uploads
 /2025/12/gal1.jpg
CATEGORIES:Events
END:VEVENT
BEGIN:VEVENT
UID:6@clonmelbaptist.ie
DTSTART;TZID=Asia/Irkutsk:20251205T000000
DTEND;TZID=Asia/Irkutsk:20251205T000000
DTSTAMP:20251214T094421Z
URL:https://www.clonmelbaptist.ie/events/pastor-matthew-brennan/
SUMMARY:Sunday Home Fellowship Group Bible Study and Prayer @6:30PM
DESCRIPTION:Worship meetings held at Clonmel Baptist Church\, Bridge Centre
 \, Cashel Road \,E91 X5T7 . Bus route C2 and C9 at 11 am . Listen to recen
 t worship services
ATTACH;FMTTYPE=image/jpeg:https://www.clonmelbaptist.ie/wp-content/uploads
 /2025/12/gal1.jpg
CATEGORIES:Events
END:VEVENT
BEGIN:VEVENT
UID:20@clonmelbaptist.ie
DTSTART:20251213T130000Z
DTEND:20251213T130000Z
DTSTAMP:20251215T101050Z
URL:https://www.clonmelbaptist.ie/events/saturday-13th-dec-young-adults-me
 et-630pm/
SUMMARY:Saturday (13th Dec) Young Adults Meet @6:30PM
DESCRIPTION:Saturday (13th Dec) Young Adults Meet @6:30PM 
ATTACH;FMTTYPE=image/jpeg:https://www.clonmelbaptist.ie/wp-content/uploads
 /2025/12/gal1.jpg
CATEGORIES:Events
END:VEVENT
BEGIN:VEVENT
UID:4@clonmelbaptist.ie
DTSTART;TZID=Asia/Irkutsk:20251220T170000
DTEND;TZID=Asia/Irkutsk:20251220T170000
DTSTAMP:20251214T094755Z
URL:https://www.clonmelbaptist.ie/events/announcements-for-the-september-m
 onth/
SUMMARY:Saturday (20th Dec) Youth Club\, Christmas Party @5PM
DESCRIPTION:
ATTACH;FMTTYPE=image/jpeg:https://www.clonmelbaptist.ie/wp-content/uploads
 /2025/12/gal1.jpg
CATEGORIES:Events
END:VEVENT
BEGIN:VEVENT
UID:21@clonmelbaptist.ie
DTSTART:20251220T130000Z
DTEND:20251220T130000Z
DTSTAMP:20251215T101127Z
URL:https://www.clonmelbaptist.ie/events/saturday-20th-dec-youth-club-630p
 m/
SUMMARY:Saturday (20th Dec) Youth Club @6:30PM
DESCRIPTION:Saturday (20th Dec) Youth Club @6:30PM 
ATTACH;FMTTYPE=image/jpeg:https://www.clonmelbaptist.ie/wp-content/uploads
 /2025/12/gal1.jpg
CATEGORIES:Events
END:VEVENT
BEGIN:VEVENT
UID:290@clonmelbaptist.ie
DTSTART:20260104T053000Z
DTEND:20260104T073000Z
DTSTAMP:20260222T181001Z
URL:https://www.clonmelbaptist.ie/events/11-am-sunday-worship-bridge-centr
 e-e91x5t7-2026-01-04/
SUMMARY:11 AM Sunday Worship @ Bridge Centre - E91X5T7
DESCRIPTION:
ATTACH;FMTTYPE=image/jpeg:https://www.clonmelbaptist.ie/wp-content/uploads
 /2026/02/20260222_110740-scaled.jpg
CATEGORIES:Events
END:VEVENT
BEGIN:VEVENT
UID:237@clonmelbaptist.ie
DTSTART:20260104T130000Z
DTEND:20260104T143000Z
DTSTAMP:20260228T204324Z
URL:https://www.clonmelbaptist.ie/events/sunday-home-fellowship-groups-bib
 le-study-prayer-2026-01-04/
SUMMARY:Sunday Home Fellowship Groups - Bible Study & Prayer
DESCRIPTION:
ATTACH;FMTTYPE=image/jpeg:https://www.clonmelbaptist.ie/wp-content/uploads
 /2026/02/20260222_110814-scaled.jpg
CATEGORIES:Events
END:VEVENT
BEGIN:VEVENT
UID:197@clonmelbaptist.ie
DTSTART:20260106T140000Z
DTEND:20260106T140000Z
DTSTAMP:20260228T204127Z
URL:https://www.clonmelbaptist.ie/events/1st-tuesday-of-each-month-from-ja
 n-dec-2026-ladies-meetings-730pm-2026-01-06/
SUMMARY:Ladies Meeting @ 7:30PM
DESCRIPTION:Ladies Meeting @ 7:30PM
ATTACH;FMTTYPE=image/jpeg:https://www.clonmelbaptist.ie/wp-content/uploads
 /2025/09/IMG-20250929-WA0021.jpg
CATEGORIES:Events
END:VEVENT
BEGIN:VEVENT
UID:81@clonmelbaptist.ie
DTSTART:20260107T140000Z
DTEND:20260107T140000Z
DTSTAMP:20260228T205017Z
URL:https://www.clonmelbaptist.ie/events/all-wednesdays-730pm-home-fellows
 hip-group-bible-study-prayer-2026-01-07/
SUMMARY:Wednesday Home Fellowship Groups - Bible Study & Prayer
DESCRIPTION:
ATTACH;FMTTYPE=image/jpeg:https://www.clonmelbaptist.ie/wp-content/uploads
 /2024/12/ladies-2024.jpg
CATEGORIES:Events
END:VEVENT
BEGIN:VEVENT
UID:7@clonmelbaptist.ie
DTSTART:20260110T123000Z
DTEND:20260110T123000Z
DTSTAMP:20251214T094851Z
URL:https://www.clonmelbaptist.ie/events/saturday-10th-jan-young-adults-me
 et-6pm/
SUMMARY:Saturday (10th Jan) Young Adults Meet @6PM
DESCRIPTION:
ATTACH;FMTTYPE=image/jpeg:https://www.clonmelbaptist.ie/wp-content/uploads
 /2025/12/gal1.jpg
CATEGORIES:Events
END:VEVENT
BEGIN:VEVENT
UID:210@clonmelbaptist.ie
DTSTART:20260110T123000Z
DTEND:20260110T143000Z
DTSTAMP:20260228T202331Z
URL:https://www.clonmelbaptist.ie/events/second-saturday-of-each-month-fro
 m-jan-to-dec-2026-young-adults-meet-630pm-2026-01-10/
SUMMARY:Young Adults Meet @6PM
DESCRIPTION:Second Saturday of Each Month\nYoung Adults Meet @6PM \n
ATTACH;FMTTYPE=image/jpeg:https://www.clonmelbaptist.ie/wp-content/uploads
 /2024/10/Young-adult-and-teens-2024.jpg
CATEGORIES:Events
END:VEVENT
BEGIN:VEVENT
UID:291@clonmelbaptist.ie
DTSTART:20260111T053000Z
DTEND:20260111T073000Z
DTSTAMP:20260222T181001Z
URL:https://www.clonmelbaptist.ie/events/11-am-sunday-worship-bridge-centr
 e-e91x5t7-2026-01-11/
SUMMARY:11 AM Sunday Worship @ Bridge Centre - E91X5T7
DESCRIPTION:
ATTACH;FMTTYPE=image/jpeg:https://www.clonmelbaptist.ie/wp-content/uploads
 /2026/02/20260222_110740-scaled.jpg
CATEGORIES:Events
END:VEVENT
BEGIN:VEVENT
UID:238@clonmelbaptist.ie
DTSTART:20260111T130000Z
DTEND:20260111T143000Z
DTSTAMP:20260228T204324Z
URL:https://www.clonmelbaptist.ie/events/sunday-home-fellowship-groups-bib
 le-study-prayer-2026-01-11/
SUMMARY:Sunday Home Fellowship Groups - Bible Study & Prayer
DESCRIPTION:
ATTACH;FMTTYPE=image/jpeg:https://www.clonmelbaptist.ie/wp-content/uploads
 /2026/02/20260222_110814-scaled.jpg
CATEGORIES:Events
END:VEVENT
BEGIN:VEVENT
UID:184@clonmelbaptist.ie
DTSTART:20260112T140000Z
DTEND:20260112T140000Z
DTSTAMP:20260217T101453Z
URL:https://www.clonmelbaptist.ie/events/2nd-monday-of-each-month-from-jan
 -dec-2026-mens-bible-study-730pm-2026-01-12/
SUMMARY:Men's Bible Study @ 7:30PM
DESCRIPTION:Men's Bible Study @ 7:30PM\n
ATTACH;FMTTYPE=image/jpeg:https://www.clonmelbaptist.ie/wp-content/uploads
 /2025/12/gal1.jpg
CATEGORIES:Events
END:VEVENT
BEGIN:VEVENT
UID:82@clonmelbaptist.ie
DTSTART:20260114T140000Z
DTEND:20260114T140000Z
DTSTAMP:20260228T205017Z
URL:https://www.clonmelbaptist.ie/events/all-wednesdays-730pm-home-fellows
 hip-group-bible-study-prayer-2026-01-14/
SUMMARY:Wednesday Home Fellowship Groups - Bible Study & Prayer
DESCRIPTION:
ATTACH;FMTTYPE=image/jpeg:https://www.clonmelbaptist.ie/wp-content/uploads
 /2024/12/ladies-2024.jpg
CATEGORIES:Events
END:VEVENT
BEGIN:VEVENT
UID:9@clonmelbaptist.ie
DTSTART:20260116T183000Z
DTEND:20260117T113000Z
DTSTAMP:20251214T095042Z
URL:https://www.clonmelbaptist.ie/events/saturday17th-jan-ladies-meet-ligh
 t-lunch-and-teaching-with-betsy/
SUMMARY:Saturday(17th Jan) – Ladies Meet Light Lunch and Teaching with Be
 tsy
DESCRIPTION:
ATTACH;FMTTYPE=image/jpeg:https://www.clonmelbaptist.ie/wp-content/uploads
 /2025/12/gal1.jpg
CATEGORIES:Events
END:VEVENT
BEGIN:VEVENT
UID:292@clonmelbaptist.ie
DTSTART:20260118T053000Z
DTEND:20260118T073000Z
DTSTAMP:20260222T181001Z
URL:https://www.clonmelbaptist.ie/events/11-am-sunday-worship-bridge-centr
 e-e91x5t7-2026-01-18/
SUMMARY:11 AM Sunday Worship @ Bridge Centre - E91X5T7
DESCRIPTION:
ATTACH;FMTTYPE=image/jpeg:https://www.clonmelbaptist.ie/wp-content/uploads
 /2026/02/20260222_110740-scaled.jpg
CATEGORIES:Events
END:VEVENT
BEGIN:VEVENT
UID:239@clonmelbaptist.ie
DTSTART:20260118T130000Z
DTEND:20260118T143000Z
DTSTAMP:20260228T204324Z
URL:https://www.clonmelbaptist.ie/events/sunday-home-fellowship-groups-bib
 le-study-prayer-2026-01-18/
SUMMARY:Sunday Home Fellowship Groups - Bible Study & Prayer
DESCRIPTION:
ATTACH;FMTTYPE=image/jpeg:https://www.clonmelbaptist.ie/wp-content/uploads
 /2026/02/20260222_110814-scaled.jpg
CATEGORIES:Events
END:VEVENT
BEGIN:VEVENT
UID:83@clonmelbaptist.ie
DTSTART:20260121T140000Z
DTEND:20260121T140000Z
DTSTAMP:20260228T205017Z
URL:https://www.clonmelbaptist.ie/events/all-wednesdays-730pm-home-fellows
 hip-group-bible-study-prayer-2026-01-21/
SUMMARY:Wednesday Home Fellowship Groups - Bible Study & Prayer
DESCRIPTION:
ATTACH;FMTTYPE=image/jpeg:https://www.clonmelbaptist.ie/wp-content/uploads
 /2024/12/ladies-2024.jpg
CATEGORIES:Events
END:VEVENT
BEGIN:VEVENT
UID:293@clonmelbaptist.ie
DTSTART:20260125T053000Z
DTEND:20260125T073000Z
DTSTAMP:20260222T181001Z
URL:https://www.clonmelbaptist.ie/events/11-am-sunday-worship-bridge-centr
 e-e91x5t7-2026-01-25/
SUMMARY:11 AM Sunday Worship @ Bridge Centre - E91X5T7
DESCRIPTION:
ATTACH;FMTTYPE=image/jpeg:https://www.clonmelbaptist.ie/wp-content/uploads
 /2026/02/20260222_110740-scaled.jpg
CATEGORIES:Events
END:VEVENT
BEGIN:VEVENT
UID:10@clonmelbaptist.ie
DTSTART:20260125T053000Z
DTEND:20260125T053000Z
DTSTAMP:20251214T095115Z
URL:https://www.clonmelbaptist.ie/events/sunday-25th-jan-communion-11am/
SUMMARY:Sunday (25th Jan) – Communion @11AM
DESCRIPTION:
ATTACH;FMTTYPE=image/jpeg:https://www.clonmelbaptist.ie/wp-content/uploads
 /2025/12/gal1.jpg
CATEGORIES:Events
END:VEVENT
BEGIN:VEVENT
UID:240@clonmelbaptist.ie
DTSTART:20260125T130000Z
DTEND:20260125T143000Z
DTSTAMP:20260228T204324Z
URL:https://www.clonmelbaptist.ie/events/sunday-home-fellowship-groups-bib
 le-study-prayer-2026-01-25/
SUMMARY:Sunday Home Fellowship Groups - Bible Study & Prayer
DESCRIPTION:
ATTACH;FMTTYPE=image/jpeg:https://www.clonmelbaptist.ie/wp-content/uploads
 /2026/02/20260222_110814-scaled.jpg
CATEGORIES:Events
END:VEVENT
BEGIN:VEVENT
UID:84@clonmelbaptist.ie
DTSTART:20260128T140000Z
DTEND:20260128T140000Z
DTSTAMP:20260228T205017Z
URL:https://www.clonmelbaptist.ie/events/all-wednesdays-730pm-home-fellows
 hip-group-bible-study-prayer-2026-01-28/
SUMMARY:Wednesday Home Fellowship Groups - Bible Study & Prayer
DESCRIPTION:
ATTACH;FMTTYPE=image/jpeg:https://www.clonmelbaptist.ie/wp-content/uploads
 /2024/12/ladies-2024.jpg
CATEGORIES:Events
END:VEVENT
BEGIN:VEVENT
UID:223@clonmelbaptist.ie
DTSTART:20260131T113000Z
DTEND:20260131T133000Z
DTSTAMP:20260228T203129Z
URL:https://www.clonmelbaptist.ie/events/last-saturday-of-each-month-from-
 jan-to-dec-2026-junior-senior-youth-club-8-13-years-2026-01-31/
SUMMARY:Youth Club (5 -12 years)
DESCRIPTION:Youth Club (8 -12 years)\n
ATTACH;FMTTYPE=image/jpeg:https://www.clonmelbaptist.ie/wp-content/uploads
 /2024/07/HBC-2024-parachute.jpg
CATEGORIES:Events
END:VEVENT
BEGIN:VEVENT
UID:294@clonmelbaptist.ie
DTSTART:20260201T053000Z
DTEND:20260201T073000Z
DTSTAMP:20260222T181001Z
URL:https://www.clonmelbaptist.ie/events/11-am-sunday-worship-bridge-centr
 e-e91x5t7-2026-02-01/
SUMMARY:11 AM Sunday Worship @ Bridge Centre - E91X5T7
DESCRIPTION:
ATTACH;FMTTYPE=image/jpeg:https://www.clonmelbaptist.ie/wp-content/uploads
 /2026/02/20260222_110740-scaled.jpg
CATEGORIES:Events
END:VEVENT
BEGIN:VEVENT
UID:241@clonmelbaptist.ie
DTSTART:20260201T130000Z
DTEND:20260201T143000Z
DTSTAMP:20260228T204324Z
URL:https://www.clonmelbaptist.ie/events/sunday-home-fellowship-groups-bib
 le-study-prayer-2026-02-01/
SUMMARY:Sunday Home Fellowship Groups - Bible Study & Prayer
DESCRIPTION:
ATTACH;FMTTYPE=image/jpeg:https://www.clonmelbaptist.ie/wp-content/uploads
 /2026/02/20260222_110814-scaled.jpg
CATEGORIES:Events
END:VEVENT
BEGIN:VEVENT
UID:198@clonmelbaptist.ie
DTSTART:20260203T140000Z
DTEND:20260203T140000Z
DTSTAMP:20260228T204127Z
URL:https://www.clonmelbaptist.ie/events/1st-tuesday-of-each-month-from-ja
 n-dec-2026-ladies-meetings-730pm-2026-02-03/
SUMMARY:Ladies Meeting @ 7:30PM
DESCRIPTION:Ladies Meeting @ 7:30PM
ATTACH;FMTTYPE=image/jpeg:https://www.clonmelbaptist.ie/wp-content/uploads
 /2025/09/IMG-20250929-WA0021.jpg
CATEGORIES:Events
END:VEVENT
BEGIN:VEVENT
UID:85@clonmelbaptist.ie
DTSTART:20260204T140000Z
DTEND:20260204T140000Z
DTSTAMP:20260228T205017Z
URL:https://www.clonmelbaptist.ie/events/all-wednesdays-730pm-home-fellows
 hip-group-bible-study-prayer-2026-02-04/
SUMMARY:Wednesday Home Fellowship Groups - Bible Study & Prayer
DESCRIPTION:
ATTACH;FMTTYPE=image/jpeg:https://www.clonmelbaptist.ie/wp-content/uploads
 /2024/12/ladies-2024.jpg
CATEGORIES:Events
END:VEVENT
BEGIN:VEVENT
UID:295@clonmelbaptist.ie
DTSTART:20260208T053000Z
DTEND:20260208T073000Z
DTSTAMP:20260222T181001Z
URL:https://www.clonmelbaptist.ie/events/11-am-sunday-worship-bridge-centr
 e-e91x5t7-2026-02-08/
SUMMARY:11 AM Sunday Worship @ Bridge Centre - E91X5T7
DESCRIPTION:
ATTACH;FMTTYPE=image/jpeg:https://www.clonmelbaptist.ie/wp-content/uploads
 /2026/02/20260222_110740-scaled.jpg
CATEGORIES:Events
END:VEVENT
BEGIN:VEVENT
UID:242@clonmelbaptist.ie
DTSTART:20260208T130000Z
DTEND:20260208T143000Z
DTSTAMP:20260228T204324Z
URL:https://www.clonmelbaptist.ie/events/sunday-home-fellowship-groups-bib
 le-study-prayer-2026-02-08/
SUMMARY:Sunday Home Fellowship Groups - Bible Study & Prayer
DESCRIPTION:
ATTACH;FMTTYPE=image/jpeg:https://www.clonmelbaptist.ie/wp-content/uploads
 /2026/02/20260222_110814-scaled.jpg
CATEGORIES:Events
END:VEVENT
BEGIN:VEVENT
UID:185@clonmelbaptist.ie
DTSTART:20260209T140000Z
DTEND:20260209T140000Z
DTSTAMP:20260217T101453Z
URL:https://www.clonmelbaptist.ie/events/2nd-monday-of-each-month-from-jan
 -dec-2026-mens-bible-study-730pm-2026-02-09/
SUMMARY:Men's Bible Study @ 7:30PM
DESCRIPTION:Men's Bible Study @ 7:30PM\n
ATTACH;FMTTYPE=image/jpeg:https://www.clonmelbaptist.ie/wp-content/uploads
 /2025/12/gal1.jpg
CATEGORIES:Events
END:VEVENT
BEGIN:VEVENT
UID:86@clonmelbaptist.ie
DTSTART:20260211T140000Z
DTEND:20260211T140000Z
DTSTAMP:20260228T205017Z
URL:https://www.clonmelbaptist.ie/events/all-wednesdays-730pm-home-fellows
 hip-group-bible-study-prayer-2026-02-11/
SUMMARY:Wednesday Home Fellowship Groups - Bible Study & Prayer
DESCRIPTION:
ATTACH;FMTTYPE=image/jpeg:https://www.clonmelbaptist.ie/wp-content/uploads
 /2024/12/ladies-2024.jpg
CATEGORIES:Events
END:VEVENT
BEGIN:VEVENT
UID:211@clonmelbaptist.ie
DTSTART:20260214T123000Z
DTEND:20260214T143000Z
DTSTAMP:20260228T202331Z
URL:https://www.clonmelbaptist.ie/events/second-saturday-of-each-month-fro
 m-jan-to-dec-2026-young-adults-meet-630pm-2026-02-14/
SUMMARY:Young Adults Meet @6PM
DESCRIPTION:Second Saturday of Each Month\nYoung Adults Meet @6PM \n
ATTACH;FMTTYPE=image/jpeg:https://www.clonmelbaptist.ie/wp-content/uploads
 /2024/10/Young-adult-and-teens-2024.jpg
CATEGORIES:Events
END:VEVENT
BEGIN:VEVENT
UID:296@clonmelbaptist.ie
DTSTART:20260215T053000Z
DTEND:20260215T073000Z
DTSTAMP:20260222T181001Z
URL:https://www.clonmelbaptist.ie/events/11-am-sunday-worship-bridge-centr
 e-e91x5t7-2026-02-15/
SUMMARY:11 AM Sunday Worship @ Bridge Centre - E91X5T7
DESCRIPTION:
ATTACH;FMTTYPE=image/jpeg:https://www.clonmelbaptist.ie/wp-content/uploads
 /2026/02/20260222_110740-scaled.jpg
CATEGORIES:Events
END:VEVENT
BEGIN:VEVENT
UID:243@clonmelbaptist.ie
DTSTART:20260215T130000Z
DTEND:20260215T143000Z
DTSTAMP:20260228T204324Z
URL:https://www.clonmelbaptist.ie/events/sunday-home-fellowship-groups-bib
 le-study-prayer-2026-02-15/
SUMMARY:Sunday Home Fellowship Groups - Bible Study & Prayer
DESCRIPTION:
ATTACH;FMTTYPE=image/jpeg:https://www.clonmelbaptist.ie/wp-content/uploads
 /2026/02/20260222_110814-scaled.jpg
CATEGORIES:Events
END:VEVENT
BEGIN:VEVENT
UID:87@clonmelbaptist.ie
DTSTART:20260218T140000Z
DTEND:20260218T140000Z
DTSTAMP:20260228T205017Z
URL:https://www.clonmelbaptist.ie/events/all-wednesdays-730pm-home-fellows
 hip-group-bible-study-prayer-2026-02-18/
SUMMARY:Wednesday Home Fellowship Groups - Bible Study & Prayer
DESCRIPTION:
ATTACH;FMTTYPE=image/jpeg:https://www.clonmelbaptist.ie/wp-content/uploads
 /2024/12/ladies-2024.jpg
CATEGORIES:Events
END:VEVENT
BEGIN:VEVENT
UID:297@clonmelbaptist.ie
DTSTART:20260222T053000Z
DTEND:20260222T073000Z
DTSTAMP:20260222T181001Z
URL:https://www.clonmelbaptist.ie/events/11-am-sunday-worship-bridge-centr
 e-e91x5t7-2026-02-22/
SUMMARY:11 AM Sunday Worship @ Bridge Centre - E91X5T7
DESCRIPTION:
ATTACH;FMTTYPE=image/jpeg:https://www.clonmelbaptist.ie/wp-content/uploads
 /2026/02/20260222_110740-scaled.jpg
CATEGORIES:Events
END:VEVENT
BEGIN:VEVENT
UID:244@clonmelbaptist.ie
DTSTART:20260222T130000Z
DTEND:20260222T143000Z
DTSTAMP:20260228T204324Z
URL:https://www.clonmelbaptist.ie/events/sunday-home-fellowship-groups-bib
 le-study-prayer-2026-02-22/
SUMMARY:Sunday Home Fellowship Groups - Bible Study & Prayer
DESCRIPTION:
ATTACH;FMTTYPE=image/jpeg:https://www.clonmelbaptist.ie/wp-content/uploads
 /2026/02/20260222_110814-scaled.jpg
CATEGORIES:Events
END:VEVENT
BEGIN:VEVENT
UID:88@clonmelbaptist.ie
DTSTART:20260225T140000Z
DTEND:20260225T140000Z
DTSTAMP:20260228T205017Z
URL:https://www.clonmelbaptist.ie/events/all-wednesdays-730pm-home-fellows
 hip-group-bible-study-prayer-2026-02-25/
SUMMARY:Wednesday Home Fellowship Groups - Bible Study & Prayer
DESCRIPTION:
ATTACH;FMTTYPE=image/jpeg:https://www.clonmelbaptist.ie/wp-content/uploads
 /2024/12/ladies-2024.jpg
CATEGORIES:Events
END:VEVENT
BEGIN:VEVENT
UID:224@clonmelbaptist.ie
DTSTART:20260228T113000Z
DTEND:20260228T133000Z
DTSTAMP:20260228T203129Z
URL:https://www.clonmelbaptist.ie/events/last-saturday-of-each-month-from-
 jan-to-dec-2026-junior-senior-youth-club-8-13-years-2026-02-28/
SUMMARY:Youth Club (5 -12 years)
DESCRIPTION:Youth Club (8 -12 years)\n
ATTACH;FMTTYPE=image/jpeg:https://www.clonmelbaptist.ie/wp-content/uploads
 /2024/07/HBC-2024-parachute.jpg
CATEGORIES:Events
END:VEVENT
BEGIN:VEVENT
UID:298@clonmelbaptist.ie
DTSTART:20260301T053000Z
DTEND:20260301T073000Z
DTSTAMP:20260222T181001Z
URL:https://www.clonmelbaptist.ie/events/11-am-sunday-worship-bridge-centr
 e-e91x5t7-2026-03-01/
SUMMARY:11 AM Sunday Worship @ Bridge Centre - E91X5T7
DESCRIPTION:
ATTACH;FMTTYPE=image/jpeg:https://www.clonmelbaptist.ie/wp-content/uploads
 /2026/02/20260222_110740-scaled.jpg
CATEGORIES:Events
END:VEVENT
BEGIN:VEVENT
UID:245@clonmelbaptist.ie
DTSTART:20260301T130000Z
DTEND:20260301T143000Z
DTSTAMP:20260228T204324Z
URL:https://www.clonmelbaptist.ie/events/sunday-home-fellowship-groups-bib
 le-study-prayer-2026-03-01/
SUMMARY:Sunday Home Fellowship Groups - Bible Study & Prayer
DESCRIPTION:
ATTACH;FMTTYPE=image/jpeg:https://www.clonmelbaptist.ie/wp-content/uploads
 /2026/02/20260222_110814-scaled.jpg
CATEGORIES:Events
END:VEVENT
BEGIN:VEVENT
UID:199@clonmelbaptist.ie
DTSTART:20260303T140000Z
DTEND:20260303T140000Z
DTSTAMP:20260228T204127Z
URL:https://www.clonmelbaptist.ie/events/1st-tuesday-of-each-month-from-ja
 n-dec-2026-ladies-meetings-730pm-2026-03-03/
SUMMARY:Ladies Meeting @ 7:30PM
DESCRIPTION:Ladies Meeting @ 7:30PM
ATTACH;FMTTYPE=image/jpeg:https://www.clonmelbaptist.ie/wp-content/uploads
 /2025/09/IMG-20250929-WA0021.jpg
CATEGORIES:Events
END:VEVENT
BEGIN:VEVENT
UID:89@clonmelbaptist.ie
DTSTART:20260304T140000Z
DTEND:20260304T140000Z
DTSTAMP:20260228T205017Z
URL:https://www.clonmelbaptist.ie/events/all-wednesdays-730pm-home-fellows
 hip-group-bible-study-prayer-2026-03-04/
SUMMARY:Wednesday Home Fellowship Groups - Bible Study & Prayer
DESCRIPTION:
ATTACH;FMTTYPE=image/jpeg:https://www.clonmelbaptist.ie/wp-content/uploads
 /2024/12/ladies-2024.jpg
CATEGORIES:Events
END:VEVENT
BEGIN:VEVENT
UID:299@clonmelbaptist.ie
DTSTART:20260308T053000Z
DTEND:20260308T073000Z
DTSTAMP:20260222T181001Z
URL:https://www.clonmelbaptist.ie/events/11-am-sunday-worship-bridge-centr
 e-e91x5t7-2026-03-08/
SUMMARY:11 AM Sunday Worship @ Bridge Centre - E91X5T7
DESCRIPTION:
ATTACH;FMTTYPE=image/jpeg:https://www.clonmelbaptist.ie/wp-content/uploads
 /2026/02/20260222_110740-scaled.jpg
CATEGORIES:Events
END:VEVENT
BEGIN:VEVENT
UID:246@clonmelbaptist.ie
DTSTART:20260308T130000Z
DTEND:20260308T143000Z
DTSTAMP:20260228T204324Z
URL:https://www.clonmelbaptist.ie/events/sunday-home-fellowship-groups-bib
 le-study-prayer-2026-03-08/
SUMMARY:Sunday Home Fellowship Groups - Bible Study & Prayer
DESCRIPTION:
ATTACH;FMTTYPE=image/jpeg:https://www.clonmelbaptist.ie/wp-content/uploads
 /2026/02/20260222_110814-scaled.jpg
CATEGORIES:Events
END:VEVENT
BEGIN:VEVENT
UID:186@clonmelbaptist.ie
DTSTART:20260309T140000Z
DTEND:20260309T140000Z
DTSTAMP:20260217T101453Z
URL:https://www.clonmelbaptist.ie/events/2nd-monday-of-each-month-from-jan
 -dec-2026-mens-bible-study-730pm-2026-03-09/
SUMMARY:Men's Bible Study @ 7:30PM
DESCRIPTION:Men's Bible Study @ 7:30PM\n
ATTACH;FMTTYPE=image/jpeg:https://www.clonmelbaptist.ie/wp-content/uploads
 /2025/12/gal1.jpg
CATEGORIES:Events
END:VEVENT
BEGIN:VEVENT
UID:90@clonmelbaptist.ie
DTSTART:20260311T140000Z
DTEND:20260311T140000Z
DTSTAMP:20260228T205017Z
URL:https://www.clonmelbaptist.ie/events/all-wednesdays-730pm-home-fellows
 hip-group-bible-study-prayer-2026-03-11/
SUMMARY:Wednesday Home Fellowship Groups - Bible Study & Prayer
DESCRIPTION:
ATTACH;FMTTYPE=image/jpeg:https://www.clonmelbaptist.ie/wp-content/uploads
 /2024/12/ladies-2024.jpg
CATEGORIES:Events
END:VEVENT
BEGIN:VEVENT
UID:212@clonmelbaptist.ie
DTSTART:20260314T123000Z
DTEND:20260314T143000Z
DTSTAMP:20260228T202331Z
URL:https://www.clonmelbaptist.ie/events/second-saturday-of-each-month-fro
 m-jan-to-dec-2026-young-adults-meet-630pm-2026-03-14/
SUMMARY:Young Adults Meet @6PM
DESCRIPTION:Second Saturday of Each Month\nYoung Adults Meet @6PM \n
ATTACH;FMTTYPE=image/jpeg:https://www.clonmelbaptist.ie/wp-content/uploads
 /2024/10/Young-adult-and-teens-2024.jpg
CATEGORIES:Events
END:VEVENT
BEGIN:VEVENT
UID:300@clonmelbaptist.ie
DTSTART:20260315T053000Z
DTEND:20260315T073000Z
DTSTAMP:20260222T181001Z
URL:https://www.clonmelbaptist.ie/events/11-am-sunday-worship-bridge-centr
 e-e91x5t7-2026-03-15/
SUMMARY:11 AM Sunday Worship @ Bridge Centre - E91X5T7
DESCRIPTION:
ATTACH;FMTTYPE=image/jpeg:https://www.clonmelbaptist.ie/wp-content/uploads
 /2026/02/20260222_110740-scaled.jpg
CATEGORIES:Events
END:VEVENT
BEGIN:VTIMEZONE
TZID:Asia/Irkutsk
X-LIC-LOCATION:Asia/Irkutsk
BEGIN:STANDARD
DTSTART:20241205T000000
TZOFFSETFROM:+0800
TZOFFSETTO:+0800
TZNAME:+08
END:STANDARD
END:VTIMEZONE
END:VCALENDAR